Workbook

Sheet TEMPLATE VIDEO 1
B1: [NAAM VAN JOUW RESTAURANT/DAGZAAK/KOFFIEBAR]
F3: KPI's (hoe meten we succes?) | J3: Openingsdagen | K3: Geschatte extra omzet:
B4: VAKER | C4: Hoe zorg je ervoor dat (bestaande) gasten vaker komen? | F4: # gasten per dag | I4: Per dag | J4: 1 | K4: =N20 -> #VALUE!
B5: VOLLER | C5: Hoe zorg je ervoor dat ze meer besteden bij hun bezoek? | F5: besteding per gast | I5: Per week | J5: 7 | K5: =K4*J5 -> #VALUE!
B6: MEER | C6: Hoe zorg je voor meer nieuwe gasten die jouw zaak weten te vinden? | F6: # nieuwe gasten | I6: Per maand | J6: 30.42 | K6: =J6*K4 -> #VALUE!
I7: Per jaar | J7: 360 | K7: =J7*K4 -> #VALUE!
I8: (let op: pas het aantal openingsdagen aan die gelden voor jouw zaak)
D9: VUL ALLEEN DE WITTE VLAKKEN IN, DE REST NIET AANPASSEN!
D10: Aantal gasten (VAKER/MEER) | H10: Besteding per gast (VOLLER) | L10: OMZET
D11: NULMETING | E11: DOEL | F11: VERSCHIL # | G11: VERSCHIL % | H11: NULMETING | I11: DOEL | J11: VERSCHIL # | K11: VERSCHIL % | L11: NULMETING | M11: DOEL | N11: VERSCHIL # | O11: VERSCHIL %
C12: maandag | D12: vul in | E12: vul in | F12: =E12-D12 -> #VALUE! | G12: =F12/D12 -> #VALUE! | H12: vul in | I12: vul in | J12: =I12-H12 -> #VALUE! | K12: =J12/H12 -> #VALUE! | L12: =H12*D12 -> #VALUE! | M12: =E12*I12 -> #VALUE! | N12: =M12-L12 -> #VALUE! | O12: =N12/L12 -> #VALUE!
C13: dinsdag | D13: vul in | E13: vul in | F13: =E13-D13 -> #VALUE! | G13: =F13/D13 -> #VALUE! | H13: vul in | I13: vul in | J13: =I13-H13 -> #VALUE! | K13: =J13/H13 -> #VALUE! | L13: =H13*D13 -> #VALUE! | M13: =E13*I13 -> #VALUE! | N13: =M13-L13 -> #VALUE! | O13: =N13/L13 -> #VALUE!
C14: woensdag | D14: vul in | E14: vul in | F14: =E14-D14 -> #VALUE! | G14: =F14/D14 -> #VALUE! | H14: vul in | I14: vul in | J14: =I14-H14 -> #VALUE! | K14: =J14/H14 -> #VALUE! | L14: =H14*D14 -> #VALUE! | M14: =E14*I14 -> #VALUE! | N14: =M14-L14 -> #VALUE! | O14: =N14/L14 -> #VALUE!
C15: donderdag | D15: vul in | E15: vul in | F15: =E15-D15 -> #VALUE! | G15: =F15/D15 -> #VALUE! | H15: vul in | I15: vul in | J15: =I15-H15 -> #VALUE! | K15: =J15/H15 -> #VALUE! | L15: =H15*D15 -> #VALUE! | M15: =E15*I15 -> #VALUE! | N15: =M15-L15 -> #VALUE! | O15: =N15/L15 -> #VALUE!
C16: vrijdag | D16: vul in | E16: vul in | F16: =E16-D16 -> #VALUE! | G16: =F16/D16 -> #VALUE! | H16: vul in | I16: vul in | J16: =I16-H16 -> #VALUE! | K16: =J16/H16 -> #VALUE! | L16: =H16*D16 -> #VALUE! | M16: =E16*I16 -> #VALUE! | N16: =M16-L16 -> #VALUE! | O16: =N16/L16 -> #VALUE!
C17: zaterdag | D17: vul in | E17: vul in | F17: =E17-D17 -> #VALUE! | G17: =F17/D17 -> #VALUE! | H17: vul in | I17: vul in | J17: =I17-H17 -> #VALUE! | K17: =J17/H17 -> #VALUE! | L17: =H17*D17 -> #VALUE! | M17: =E17*I17 -> #VALUE! | N17: =M17-L17 -> #VALUE! | O17: =N17/L17 -> #VALUE!
C18: zondag | D18: vul in | E18: vul in | F18: =E18-D18 -> #VALUE! | G18: =F18/D18 -> #VALUE! | H18: vul in | I18: vul in | J18: =I18-H18 -> #VALUE! | K18: =J18/H18 -> #VALUE! | L18: =H18*D18 -> #VALUE! | M18: =E18*I18 -> #VALUE! | N18: =M18-L18 -> #VALUE! | O18: =N18/L18 -> #VALUE!
C19: totaal per week | D19: =SUM(D12:D18) -> 0 | E19: =SUM(E12:E18) -> 0 | F19: =SUM(F12:F18) -> #VALUE! | H19: =SUM(H12:H18) -> 0 | I19: =SUM(I12:I18) -> 0 | J19: =SUM(J12:J18) -> #VALUE! | L19: =SUM(L12:L18) -> #VALUE! | M19: =SUM(M12:M18) -> #VALUE! | N19: =SUM(N12:N18) -> #VALUE!
C20: totaal gemiddeld per dag | D20: =AVERAGE(D12:D18) -> #DIV/0! | E20: =AVERAGE(E12:E18) -> #DIV/0! | F20: =AVERAGE(F12:F18) -> #VALUE! | G20: =AVERAGE(G12:G18) -> #VALUE! | H20: =AVERAGE(H12:H18) -> #DIV/0! | I20: =AVERAGE(I12:I18) -> #DIV/0! | J20: =AVERAGE(J12:J18) -> #VALUE! | K20: =AVERAGE(K12:K18) -> #VALUE! | ... O20: =AVERAGE(O12:O18) -> #VALUE!
C21: Bij dit voorbeeld kijken we alleen naar omzet, niet naar winst. | H21: (let op: haal de btw uit je bedragen bij de besteding per gast! Dit is meestal 9%)
C22: Deze kun je zelf toevoegen aan de berekeningen door al je kosten er vanaf te halen

Sheet VOORBEELD VIDEO 1
B1: MIJN DAGZAAK
F3: KPI's (hoe meten we succes?) | J3: Openingsdagen | K3: Geschatte extra omzet:
B4: VAKER | C4: Hoe zorg je ervoor dat (bestaande) gasten vaker komen? | F4: # gasten per dag | I4: Per dag | J4: 1 | K4: =N20 -> 110.89286
B5: VOLLER | C5: Hoe zorg je ervoor dat ze meer besteden bij hun bezoek? | F5: besteding per gast | I5: Per week | J5: 7 | K5: =K4*J5 -> 776.25
B6: MEER | C6: Hoe zorg je voor meer nieuwe gasten die jouw zaak weten te vinden? | F6: # nieuwe gasten | I6: Per maand | J6: 30.42 | K6: =J6*K4 -> 3373.3607
I7: Per jaar | J7: 360 | K7: =J7*K4 -> 39921.429
I8: (let op: pas het aantal openingsdagen aan die gelden voor jouw zaak)
D10: Aantal gasten (VAKER/MEER) | H10: Besteding per gast (VOLLER) | L10: OMZET
D11: NULMETING | E11: DOEL | F11: VERSCHIL # | G11: VERSCHIL % | H11: NULMETING | I11: DOEL | J11: VERSCHIL # | K11: VERSCHIL % | L11: NULMETING | M11: DOEL | N11: VERSCHIL # | O11: VERSCHIL %
C12: maandag | D12: 150 | E12: 160 | F12: =E12-D12 -> 10 | G12: =F12/D12 -> 0.066666667 | H12: 7.3 | I12: 7.5 | J12: =I12-H12 -> 0.2 | K12: =J12/H12 -> 0.02739726 | L12: =H12*D12 -> 1095 | M12: =E12*I12 -> 1200 | N12: =M12-L12 -> 105 | O12: =N12/L12 -> 0.095890411
C13: dinsdag | D13: 165 | E13: 170 | F13: =E13-D13 -> 5 | G13: =F13/D13 -> 0.03030303 | H13: 8.2 | I13: 8.35 | J13: =I13-H13 -> 0.15 | K13: =J13/H13 -> 0.018292683 | L13: =H13*D13 -> 1353 | M13: =E13*I13 -> 1419.5 | N13: =M13-L13 -> 66.5 | O13: =N13/L13 -> 0.049150037
C14: woensdag | D14: 160 | E14: 170 | F14: =E14-D14 -> 10 | G14: =F14/D14 -> 0.0625 | H14: 7.7 | I14: 7.8 | J14: =I14-H14 -> 0.1 | K14: =J14/H14 -> 0.012987013 | L14: =H14*D14 -> 1232 | M14: =E14*I14 -> 1326 | N14: =M14-L14 -> 94 | O14: =N14/L14 -> 0.076298701
C15: donderdag | D15: 175 | E15: 180 | F15: =E15-D15 -> 5 | G15: =F15/D15 -> 0.028571429 | H15: 8.05 | I15: 8.2 | J15: =I15-H15 -> 0.15 | K15: =J15/H15 -> 0.01863354 | L15: =H15*D15 -> 1408.75 | M15: =E15*I15 -> 1476 | N15: =M15-L15 -> 67.25 | O15: =N15/L15 -> 0.047737356
C16: vrijdag | D16: 155 | E16: 160 | F16: =E16-D16 -> 5 | G16: =F16/D16 -> 0.032258065 | H16: 8.1 | I16: 8.2 | J16: =I16-H16 -> 0.1 | K16: =J16/H16 -> 0.012345679 | L16: =H16*D16 -> 1255.5 | M16: =E16*I16 -> 1312 | N16: =M16-L16 -> 56.5 | O16: =N16/L16 -> 0.045001991
C17: zaterdag | D17: 200 | E17: 210 | F17: =E17-D17 -> 10 | G17: =F17/D17 -> 0.05 | H17: 9.5 | I17: 10 | J17: =I17-H17 -> 0.5 | K17: =J17/H17 -> 0.052631579 | L17: =H17*D17 -> 1900 | M17: =E17*I17 -> 2100 | N17: =M17-L17 -> 200 | O17: =N17/L17 -> 0.10526316
C18: zondag | D18: 185 | E18: 200 | F18: =E18-D18 -> 15 | G18: =F18/D18 -> 0.081081081 | H18: 9.8 | I18: 10 | J18: =I18-H18 -> 0.2 | K18: =J18/H18 -> 0.020408163 | L18: =H18*D18 -> 1813 | M18: =E18*I18 -> 2000 | N18: =M18-L18 -> 187 | O18: =N18/L18 -> 0.10314396
C19: totaal per week | D19: =SUM(D12:D18) -> 1190 | E19: =SUM(E12:E18) -> 1250 | F19: =SUM(F12:F18) -> 60 | H19: =SUM(H12:H18) -> 58.65 | I19: =SUM(I12:I18) -> 60.05 | J19: =SUM(J12:J18) -> 1.4 | L19: =SUM(L12:L18) -> 10057.25 | M19: =SUM(M12:M18) -> 10833.5 | N19: =SUM(N12:N18) -> 776.25
C20: totaal gemiddeld per dag | D20: =AVERAGE(D12:D18) -> 170 | E20: =AVERAGE(E12:E18) -> 178.57143 | F20: =AVERAGE(F12:F18) -> 8.5714286 | G20: =AVERAGE(G12:G18) -> 0.050197182 | H20: =AVERAGE(H12:H18) -> 8.3785714 | I20: =AVERAGE(I12:I18) -> 8.5785714 | J20: =AVERAGE(J12:J18) -> 0.2 | K20: =AVERAGE(K12:K18) -> 0.023242274 | ... O20: =AVERAGE(O12:O18) -> 0.074640802
C21: Bij dit voorbeeld kijken we alleen naar omzet, niet naar winst. | H21: (let op: haal de btw uit je bedragen bij de besteding per gast! Dit is meestal 9%)
C22: Deze kun je zelf toevoegen aan de berekeningen door al je kosten er vanaf te halen

Sheet KOERSPLAN TEMPLATE VIDEO 3
B1: [NAAM VAN JOUW RESTAURANT/DAGZAAK/KOFFIEBAR]
E3: KPI's (hoe meten we succes?) | I3: RESULTAAT TOT NU TOE (TOV NULMETING)
B4: VAKER - Hoe zorg je ervoor dat (bestaande) gasten vaker komen? | F4: # gasten per dag | I4: Per dag | J4: ='TEMPLATE VIDEO 1'!J4 -> 1 | K4: =J4*I45 -> #DIV/0!
B5: VOLLER - Hoe zorg je ervoor dat ze meer besteden bij hun bezoek? | F5: besteding per gast | I5: Per week | J5: ='TEMPLATE VIDEO 1'!J5 -> 7 | K5: =K4*J5 -> #DIV/0!
B6: MEER - Hoe zorg je voor meer nieuwe gasten die jouw zaak weten te vinden? | F6: # nieuwe gasten | I6: Per maand | J6: ='TEMPLATE VIDEO 1'!J6 -> 30.42 | K6: =J6*K4 -> #DIV/0!
I7: Per jaar | J7: ='TEMPLATE VIDEO 1'!J7 -> 360 | K7: =J7*K4 -> #DIV/0!
C9: VUL ALLEEN DE WITTE VLAKKEN IN, DE REST NIET AANPASSEN!
C10: Aantal gasten (VAKER/MEER) | H10: RESULTAAT | I10: VERSCHIL TUSSEN NULMETING EN 1METING | K10: VERSCHIL TUSSEN DOEL EN 1METING | M10: VUL HIER JE RESULTAAT PER WEEK IN:
C11: NULMETING | D11: DOEL | E11: VERSCHIL # | F11: VERSCHIL % | H11: GEMIDDELDE | I11: VERSCHIL # | J11: VERSCHIL % | K11: VERSCHIL # | L11: VERSCHIL % | M11: Wk1 | N11: Wk2 | O11: Wk3 | P11: Wk4 | Q11: Wk5 | R11: Wk6 | S11: Wk7 | T11: Wk8 | U11: Wk9 | V11: Wk10 | W11: Wk11 | X11: Wk12 | Y11: Wk13 | Z11: Wk14 | AA11: Wk15 | AB11: Wk16 | AC11: Wk17 | AD11: Wk18 | AE11: Wk19 | AF11: Wk20 | AG11: Wk21 | AH11: Wk22 | AI11: Wk23 | AJ11: Wk24 | AK11: Wk25 | AL11: Wk26
B12: maandag | C12: ='TEMPLATE VIDEO 1'!D12 -> vul in | D12: ='TEMPLATE VIDEO 1'!E12 -> vul in | E12: =D12-C12 -> #VALUE! | F12: =E12/C12 -> #VALUE! | H12: =AVERAGE(M12:AL12) -> #DIV/0! | I12: =H12-C12 -> #DIV/0! | J12: =I12/H12 -> #DIV/0! | K12: =H12-D12 -> #DIV/0! | L12: =K12/H12 -> #DIV/0! | M12: vul in | N12: vul in | O12: vul in | P12: vul in | Q12: vul in | R12: vul in | S12: vul in | T12: vul in | U12: vul in | V12: vul in | W12: vul in | X12: vul in | Y12: vul in | Z12: vul in | AA12: vul in | AB12: vul in | AC12: vul in | AD12: vul in | AE12: vul in | AF12: vul in | AG12: vul in | AH12: vul in | AI12: vul in | AJ12: vul in | AK12: vul in | AL12: vul in
B13: dinsdag | C13: ='TEMPLATE VIDEO 1'!D13 -> vul in | D13: ='TEMPLATE VIDEO 1'!E13 -> vul in | E13: =D13-C13 -> #VALUE! | F13: =E13/C13 -> #VALUE! | H13: =AVERAGE(M13:AL13) -> #DIV/0! | I13: =H13-C13 -> #DIV/0! | J13: =I13/H13 -> #DIV/0! | K13: =H13-D13 -> #DIV/0! | L13: =K13/H13 -> #DIV/0! | M13: vul in | N13: vul in | O13: vul in | P13: vul in | Q13: vul in | R13: vul in | S13: vul in | T13: vul in | U13: vul in | V13: vul in | W13: vul in | X13: vul in | Y13: vul in | Z13: vul in | AA13: vul in | AB13: vul in | AC13: vul in | AD13: vul in | AE13: vul in | AF13: vul in | AG13: vul in | AH13: vul in | AI13: vul in | AJ13: vul in | AK13: vul in | AL13: vul in
B14: woensdag | C14: ='TEMPLATE VIDEO 1'!D14 -> vul in | D14: ='TEMPLATE VIDEO 1'!E14 -> vul in | E14: =D14-C14 -> #VALUE! | F14: =E14/C14 -> #VALUE! | H14: =AVERAGE(M14:AL14) -> #DIV/0! | I14: =H14-C14 -> #DIV/0! | J14: =I14/H14 -> #DIV/0! | K14: =H14-D14 -> #DIV/0! | L14: =K14/H14 -> #DIV/0! | M14: vul in | N14: vul in | O14: vul in | P14: vul in | Q14: vul in | R14: vul in | S14: vul in | T14: vul in | U14: vul in | V14: vul in | W14: vul in | X14: vul in | Y14: vul in | Z14: vul in | AA14: vul in | AB14: vul in | AC14: vul in | AD14: vul in | AE14: vul in | AF14: vul in | AG14: vul in | AH14: vul in | AI14: vul in | AJ14: vul in | AK14: vul in | AL14: vul in
B15: donderdag | C15: ='TEMPLATE VIDEO 1'!D15 -> vul in | D15: ='TEMPLATE VIDEO 1'!E15 -> vul in | E15: =D15-C15 -> #VALUE! | F15: =E15/C15 -> #VALUE! | H15: =AVERAGE(M15:AL15) -> #DIV/0! | I15: =H15-C15 -> #DIV/0! | J15: =I15/H15 -> #DIV/0! | K15: =H15-D15 -> #DIV/0! | L15: =K15/H15 -> #DIV/0! | M15: vul in | N15: vul in | O15: vul in | P15: vul in | Q15: vul in | R15: vul in | S15: vul in | T15: vul in | U15: vul in | V15: vul in | W15: vul in | X15: vul in | Y15: vul in | Z15: vul in | AA15: vul in | AB15: vul in | AC15: vul in | AD15: vul in | AE15: vul in | AF15: vul in | AG15: vul in | AH15: vul in | AI15: vul in | AJ15: vul in | AK15: vul in | AL15: vul in
B16: vrijdag | C16: ='TEMPLATE VIDEO 1'!D16 -> vul in | D16: ='TEMPLATE VIDEO 1'!E16 -> vul in | E16: =D16-C16 -> #VALUE! | F16: =E16/C16 -> #VALUE! | H16: =AVERAGE(M16:AL16) -> #DIV/0! | I16: =H16-C16 -> #DIV/0! | J16: =I16/H16 -> #DIV/0! | K16: =H16-D16 -> #DIV/0! | L16: =K16/H16 -> #DIV/0! | M16: vul in | N16: vul in | O16: vul in | P16: vul in | Q16: vul in | R16: vul in | S16: vul in | T16: vul in | U16: vul in | V16: vul in | W16: vul in | X16: vul in | Y16: vul in | Z16: vul in | AA16: vul in | AB16: vul in | AC16: vul in | AD16: vul in | AE16: vul in | AF16: vul in | AG16: vul in | AH16: vul in | AI16: vul in | AJ16: vul in | AK16: vul in | AL16: vul in
B17: zaterdag | C17: ='TEMPLATE VIDEO 1'!D17 -> vul in | D17: ='TEMPLATE VIDEO 1'!E17 -> vul in | E17: =D17-C17 -> #VALUE! | F17: =E17/C17 -> #VALUE! | H17: =AVERAGE(M17:AL17) -> #DIV/0! | I17: =H17-C17 -> #DIV/0! | J17: =I17/H17 -> #DIV/0! | K17: =H17-D17 -> #DIV/0! | L17: =K17/H17 -> #DIV/0! | M17: vul in | N17: vul in | O17: vul in | P17: vul in | Q17: vul in | R17: vul in | S17: vul in | T17: vul in | U17: vul in | V17: vul in | W17: vul in | X17: vul in | Y17: vul in | Z17: vul in | AA17: vul in | AB17: vul in | AC17: vul in | AD17: vul in | AE17: vul in | AF17: vul in | AG17: vul in | AH17: vul in | AI17: vul in | AJ17: vul in | AK17: vul in | AL17: vul in
B18: zondag | C18: ='TEMPLATE VIDEO 1'!D18 -> vul in | D18: ='TEMPLATE VIDEO 1'!E18 -> vul in | E18: =D18-C18 -> #VALUE! | F18: =E18/C18 -> #VALUE! | H18: =AVERAGE(M18:AL18) -> #DIV/0! | I18: =H18-C18 -> #DIV/0! | J18: =I18/H18 -> #DIV/0! | K18: =H18-D18 -> #DIV/0! | L18: =K18/H18 -> #DIV/0! | M18: vul in | N18: vul in | O18: vul in | P18: vul in | Q18: vul in | R18: vul in | S18: vul in | T18: vul in | U18: vul in | V18: vul in | W18: vul in | X18: vul in | Y18: vul in | Z18: vul in | AA18: vul in | AB18: vul in | AC18: vul in | AD18: vul in | AE18: vul in | AF18: vul in | AG18: vul in | AH18: vul in | AI18: vul in | AJ18: vul in | AK18: vul in | AL18: vul in
B19: totaal per week | C19: =SUM(C12:C18) -> 0 | D19: =SUM(D12:D18) -> 0 | E19: =SUM(E12:E18) -> #VALUE! | H19: =SUM(H12:H18) -> #DIV/0! | I19: =SUM(I12:I18) -> #DIV/0! | K19: =SUM(K12:K18) -> #DIV/0! | M19: =SUM(M12:M18) -> 0 | N19: =SUM(N12:N18) -> 0 | O19: =SUM(O12:O18) -> 0 | P19: =SUM(P12:P18) -> 0 | Q19: =SUM(Q12:Q18) -> 0 | R19: =SUM(R12:R18) -> 0 | S19: =SUM(S12:S18) -> 0 | T19: =SUM(T12:T18) -> 0 | ... AL19: =SUM(AL12:AL18) -> 0
B20: totaal gemiddeld per dag | C20: =AVERAGE(C12:C18) -> #DIV/0! | D20: =AVERAGE(D12:D18) -> #DIV/0! | E20: =AVERAGE(E12:E18) -> #VALUE! | F20: =AVERAGE(F12:F18) -> #VALUE! | H20: =AVERAGE(H12:H18) -> #DIV/0! | I20: =AVERAGE(I12:I18) -> #DIV/0! | J20: =AVERAGE(J12:J18) -> #DIV/0! | K20: =AVERAGE(K12:K18) -> #DIV/0! | L20: =AVERAGE(L12:L18) -> #DIV/0! | M20: =AVERAGE(M12:M18) -> #DIV/0! | N20: =AVERAGE(N12:N18) -> #DIV/0! | O20: =AVERAGE(O12:O18) -> #DIV/0! | ... AL20: =AVERAGE(AL12:AL18) -> #DIV/0!
C22: VUL ALLEEN DE WITTE VLAKKEN IN, DE REST NIET AANPASSEN!
C23: Besteding per gast (VOLLER) | H23: RESULTAAT | I23: VERSCHIL TUSSEN NULMETING EN 1METING | K23: VERSCHIL TUSSEN DOEL EN 1METING | M23: VUL HIER JE RESULTAAT PER WEEK IN:
C24: NULMETING | D24: DOEL | E24: VERSCHIL # | F24: VERSCHIL % | H24: GEMIDDELDE | I24: VERSCHIL # | J24: VERSCHIL % | K24: VERSCHIL # | L24: VERSCHIL % | M24: Wk1 | N24: Wk2 | O24: Wk3 | P24: Wk4 | Q24: Wk5 | R24: Wk6 | S24: Wk7 | T24: Wk8 | U24: Wk9 | V24: Wk10 | W24: Wk11 | X24: Wk12 | Y24: Wk13 | Z24: Wk14 | AA24: Wk15 | AB24: Wk16 | AC24: Wk17 | AD24: Wk18 | AE24: Wk19 | AF24: Wk20 | AG24: Wk21 | AH24: Wk22 | AI24: Wk23 | AJ24: Wk24 | AK24: Wk25 | AL24: Wk26
B25: maandag | C25: ='TEMPLATE VIDEO 1'!H12 -> vul in | D25: ='TEMPLATE VIDEO 1'!I12 -> vul in | E25: =D25-C25 -> #VALUE! | F25: =E25/C25 -> #VALUE! | H25: =AVERAGE(M25:AL25) -> #DIV/0! | I25: =H25-C25 -> #DIV/0! | J25: =I25/H25 -> #DIV/0! | K25: =H25-D25 -> #DIV/0! | L25: =K25/H25 -> #DIV/0! | M25: vul in | N25: vul in | O25: vul in | P25: vul in | Q25: vul in | R25: vul in | S25: vul in | T25: vul in | U25: vul in | V25: vul in | W25: vul in | X25: vul in | Y25: vul in | Z25: vul in | AA25: vul in | AB25: vul in | AC25: vul in | AD25: vul in | AE25: vul in | AF25: vul in | AG25: vul in | AH25: vul in | AI25: vul in | AJ25: vul in | AK25: vul in | AL25: vul in
B26: dinsdag | C26: ='TEMPLATE VIDEO 1'!H13 -> vul in | D26: ='TEMPLATE VIDEO 1'!I13 -> vul in | E26: =D26-C26 -> #VALUE! | F26: =E26/C26 -> #VALUE! | H26: =AVERAGE(M26:AL26) -> #DIV/0! | I26: =H26-C26 -> #DIV/0! | J26: =I26/H26 -> #DIV/0! | K26: =H26-D26 -> #DIV/0! | L26: =K26/H26 -> #DIV/0! | M26: vul in | N26: vul in | O26: vul in | P26: vul in | Q26: vul in | R26: vul in | S26: vul in | T26: vul in | U26: vul in | V26: vul in | W26: vul in | X26: vul in | Y26: vul in | Z26: vul in | AA26: vul in | AB26: vul in | AC26: vul in | AD26: vul in | AE26: vul in | AF26: vul in | AG26: vul in | AH26: vul in | AI26: vul in | AJ26: vul in | AK26: vul in | AL26: vul in
B27: woensdag | C27: ='TEMPLATE VIDEO 1'!H14 -> vul in | D27: ='TEMPLATE VIDEO 1'!I14 -> vul in | E27: =D27-C27 -> #VALUE! | F27: =E27/C27 -> #VALUE! | H27: =AVERAGE(M27:AL27) -> #DIV/0! | I27: =H27-C27 -> #DIV/0! | J27: =I27/H27 -> #DIV/0! | K27: =H27-D27 -> #DIV/0! | L27: =K27/H27 -> #DIV/0! | M27: vul in | N27: vul in | O27: vul in | P27: vul in | Q27: vul in | R27: vul in | S27: vul in | T27: vul in | U27: vul in | V27: vul in | W27: vul in | X27: vul in | Y27: vul in | Z27: vul in | AA27: vul in | AB27: vul in | AC27: vul in | AD27: vul in | AE27: vul in | AF27: vul in | AG27: vul in | AH27: vul in | AI27: vul in | AJ27: vul in | AK27: vul in | AL27: vul in
B28: donderdag | C28: ='TEMPLATE VIDEO 1'!H15 -> vul in | D28: ='TEMPLATE VIDEO 1'!I15 -> vul in | E28: =D28-C28 -> #VALUE! | F28: =E28/C28 -> #VALUE! | H28: =AVERAGE(M28:AL28) -> #DIV/0! | I28: =H28-C28 -> #DIV/0! | J28: =I28/H28 -> #DIV/0! | K28: =H28-D28 -> #DIV/0! | L28: =K28/H28 -> #DIV/0! | M28: vul in | N28: vul in | O28: vul in | P28: vul in | Q28: vul in | R28: vul in | S28: vul in | T28: vul in | U28: vul in | V28: vul in | W28: vul in | X28: vul in | Y28: vul in | Z28: vul in | AA28: vul in | AB28: vul in | AC28: vul in | AD28: vul in | AE28: vul in | AF28: vul in | AG28: vul in | AH28: vul in | AI28: vul in | AJ28: vul in | AK28: vul in | AL28: vul in
B29: vrijdag | C29: ='TEMPLATE VIDEO 1'!H16 -> vul in | D29: ='TEMPLATE VIDEO 1'!I16 -> vul in | E29: =D29-C29 -> #VALUE! | F29: =E29/C29 -> #VALUE! | H29: =AVERAGE(M29:AL29) -> #DIV/0! | I29: =H29-C29 -> #DIV/0! | J29: =I29/H29 -> #DIV/0! | K29: =H29-D29 -> #DIV/0! | L29: =K29/H29 -> #DIV/0! | M29: vul in | N29: vul in | O29: vul in | P29: vul in | Q29: vul in | R29: vul in | S29: vul in | T29: vul in | U29: vul in | V29: vul in | W29: vul in | X29: vul in | Y29: vul in | Z29: vul in | AA29: vul in | AB29: vul in | AC29: vul in | AD29: vul in | AE29: vul in | AF29: vul in | AG29: vul in | AH29: vul in | AI29: vul in | AJ29: vul in | AK29: vul in | AL29: vul in
B30: zaterdag | C30: ='TEMPLATE VIDEO 1'!H17 -> vul in | D30: ='TEMPLATE VIDEO 1'!I17 -> vul in | E30: =D30-C30 -> #VALUE! | F30: =E30/C30 -> #VALUE! | H30: =AVERAGE(M30:AL30) -> #DIV/0! | I30: =H30-C30 -> #DIV/0! | J30: =I30/H30 -> #DIV/0! | K30: =H30-D30 -> #DIV/0! | L30: =K30/H30 -> #DIV/0! | M30: vul in | N30: vul in | O30: vul in | P30: vul in | Q30: vul in | R30: vul in | S30: vul in | T30: vul in | U30: vul in | V30: vul in | W30: vul in | X30: vul in | Y30: vul in | Z30: vul in | AA30: vul in | AB30: vul in | AC30: vul in | AD30: vul in | AE30: vul in | AF30: vul in | AG30: vul in | AH30: vul in | AI30: vul in | AJ30: vul in | AK30: vul in | AL30: vul in
B31: zondag | C31: ='TEMPLATE VIDEO 1'!H18 -> vul in | D31: ='TEMPLATE VIDEO 1'!I18 -> vul in | E31: =D31-C31 -> #VALUE! | F31: =E31/C31 -> #VALUE! | H31: =AVERAGE(M31:AL31) -> #DIV/0! | I31: =H31-C31 -> #DIV/0! | J31: =I31/H31 -> #DIV/0! | K31: =H31-D31 -> #DIV/0! | L31: =K31/H31 -> #DIV/0! | M31: vul in | N31: vul in | O31: vul in | P31: vul in | Q31: vul in | R31: vul in | S31: vul in | T31: vul in | U31: vul in | V31: vul in | W31: vul in | X31: vul in | Y31: vul in | Z31: vul in | AA31: vul in | AB31: vul in | AC31: vul in | AD31: vul in | AE31: vul in | AF31: vul in | AG31: vul in | AH31: vul in | AI31: vul in | AJ31: vul in | AK31: vul in | AL31: vul in
B32: totaal per week | C32: =SUM(C25:C31) -> 0 | D32: =SUM(D25:D31) -> 0 | E32: =SUM(E25:E31) -> #VALUE! | H32: =SUM(H25:H31) -> #DIV/0! | I32: =SUM(I25:I31) -> #DIV/0! | K32: =SUM(K25:K31) -> #DIV/0! | M32: =SUM(M25:M31) -> 0 | N32: =SUM(N25:N31) -> 0 | O32: =SUM(O25:O31) -> 0 | P32: =SUM(P25:P31) -> 0 | Q32: =SUM(Q25:Q31) -> 0 | R32: =SUM(R25:R31) -> 0 | S32: =SUM(S25:S31) -> 0 | T32: =SUM(T25:T31) -> 0 | ... AL32: =SUM(AL25:AL31) -> 0
B33: totaal gemiddeld per dag | C33: =AVERAGE(C25:C31) -> #DIV/0! | D33: =AVERAGE(D25:D31) -> #DIV/0! | E33: =AVERAGE(E25:E31) -> #VALUE! | F33: =AVERAGE(F25:F31) -> #VALUE! | H33: =AVERAGE(H25:H31) -> #DIV/0! | I33: =AVERAGE(I25:I31) -> #DIV/0! | J33: =AVERAGE(J25:J31) -> #DIV/0! | K33: =AVERAGE(K25:K31) -> #DIV/0! | L33: =AVERAGE(L25:L31) -> #DIV/0! | M33: =AVERAGE(M25:M31) -> #DIV/0! | N33: =AVERAGE(N25:N31) -> #DIV/0! | O33: =AVERAGE(O25:O31) -> #DIV/0! | ... AL33: =AVERAGE(AL25:AL31) -> #DIV/0!
C35: Omzet | H35: RESULTAAT | I35: VERSCHIL TUSSEN NULMETING EN 1METING | K35: VERSCHIL TUSSEN DOEL EN 1METING
C36: NULMETING | D36: DOEL | E36: VERSCHIL # | F36: VERSCHIL % | H36: GEMIDDELDE | I36: VERSCHIL # | J36: VERSCHIL % | K36: VERSCHIL # | L36: VERSCHIL %
B37: maandag | C37: =C25*C12 -> #VALUE! | D37: =D25*D12 -> #VALUE! | E37: =D37-C37 -> #VALUE! | F37: =E37/C37 -> #VALUE! | H37: =H25*H12 -> #DIV/0! | I37: =H37-C37 -> #DIV/0! | J37: =I37/H37 -> #DIV/0! | K37: =H37-D37 -> #DIV/0! | L37: =K37/H37 -> #DIV/0!
B38: dinsdag | C38: =C26*C13 -> #VALUE! | D38: =D26*D13 -> #VALUE! | E38: =D38-C38 -> #VALUE! | F38: =E38/C38 -> #VALUE! | H38: =H26*H13 -> #DIV/0! | I38: =H38-C38 -> #DIV/0! | J38: =I38/H38 -> #DIV/0! | K38: =H38-D38 -> #DIV/0! | L38: =K38/H38 -> #DIV/0!
B39: woensdag | C39: =C27*C14 -> #VALUE! | D39: =D27*D14 -> #VALUE! | E39: =D39-C39 -> #VALUE! | F39: =E39/C39 -> #VALUE! | H39: =H27*H14 -> #DIV/0! | I39: =H39-C39 -> #DIV/0! | J39: =I39/H39 -> #DIV/0! | K39: =H39-D39 -> #DIV/0! | L39: =K39/H39 -> #DIV/0!
B40: donderdag | C40: =C28*C15 -> #VALUE! | D40: =D28*D15 -> #VALUE! | E40: =D40-C40 -> #VALUE! | F40: =E40/C40 -> #VALUE! | H40: =H28*H15 -> #DIV/0! | I40: =H40-C40 -> #DIV/0! | J40: =I40/H40 -> #DIV/0! | K40: =H40-D40 -> #DIV/0! | L40: =K40/H40 -> #DIV/0!
B41: vrijdag | C41: =C29*C16 -> #VALUE! | D41: =D29*D16 -> #VALUE! | E41: =D41-C41 -> #VALUE! | F41: =E41/C41 -> #VALUE! | H41: =H29*H16 -> #DIV/0! | I41: =H41-C41 -> #DIV/0! | J41: =I41/H41 -> #DIV/0! | K41: =H41-D41 -> #DIV/0! | L41: =K41/H41 -> #DIV/0!
B42: zaterdag | C42: =C30*C17 -> #VALUE! | D42: =D30*D17 -> #VALUE! | E42: =D42-C42 -> #VALUE! | F42: =E42/C42 -> #VALUE! | H42: =H30*H17 -> #DIV/0! | I42: =H42-C42 -> #DIV/0! | J42: =I42/H42 -> #DIV/0! | K42: =H42-D42 -> #DIV/0! | L42: =K42/H42 -> #DIV/0!
B43: zondag | C43: =C31*C18 -> #VALUE! | D43: =D31*D18 -> #VALUE! | E43: =D43-C43 -> #VALUE! | F43: =E43/C43 -> #VALUE! | H43: =H31*H18 -> #DIV/0! | I43: =H43-C43 -> #DIV/0! | J43: =I43/H43 -> #DIV/0! | K43: =H43-D43 -> #DIV/0! | L43: =K43/H43 -> #DIV/0!
B44: totaal per week | C44: =SUM(C37:C43) -> #VALUE! | D44: =SUM(D37:D43) -> #VALUE! | E44: =SUM(E37:E43) -> #VALUE! | H44: =SUM(H37:H43) -> #DIV/0! | I44: =SUM(I37:I43) -> #DIV/0! | K44: =SUM(K37:K43) -> #DIV/0!
...

Sheet KOERSPLAN VOORBEELD VIDEO 3
B1: MIJN DAGZAAK
E3: KPI's (hoe meten we succes?) | I3: RESULTAAT TOT NU TOE (TOV NULMETING)
B4: VAKER - Hoe zorg je ervoor dat (bestaande) gasten vaker komen? | F4: # gasten per dag | I4: Per dag | J4: ='TEMPLATE VIDEO 1'!J4 -> 1 | K4: =J4*I45 -> 120.28714
B5: VOLLER - Hoe zorg je ervoor dat ze meer besteden bij hun bezoek? | F5: besteding per gast | I5: Per week | J5: ='TEMPLATE VIDEO 1'!J5 -> 7 | K5: =K4*J5 -> 842.01
B6: MEER - Hoe zorg je voor meer nieuwe gasten die jouw zaak weten te vinden? | F6: # nieuwe gasten | I6: Per maand | J6: ='TEMPLATE VIDEO 1'!J6 -> 30.42 | K6: =J6*K4 -> 3659.1349
I7: Per jaar | J7: ='TEMPLATE VIDEO 1'!J7 -> 360 | K7: =J7*K4 -> 43303.371
C9: VUL ALLEEN DE WITTE VLAKKEN IN, DE REST NIET AANPASSEN!
C10: Aantal gasten (VAKER/MEER) | H10: RESULTAAT | I10: VERSCHIL TUSSEN NULMETING EN 1METING | K10: VERSCHIL TUSSEN DOEL EN 1METING | M10: VUL HIER JE RESULTAAT PER WEEK IN:
C11: NULMETING | D11: DOEL | E11: VERSCHIL # | F11: VERSCHIL % | H11: GEMIDDELDE | I11: VERSCHIL # | J11: VERSCHIL % | K11: VERSCHIL # | L11: VERSCHIL % | M11: Wk1 | N11: Wk2 | O11: Wk3 | P11: Wk4 | Q11: Wk5 | R11: Wk6 | S11: Wk7 | T11: Wk8 | U11: Wk9 | V11: Wk10 | W11: Wk11 | X11: Wk12 | Y11: Wk13 | Z11: Wk14 | AA11: Wk15 | AB11: Wk16 | AC11: Wk17 | AD11: Wk18 | AE11: Wk19 | AF11: Wk20 | AG11: Wk21 | AH11: Wk22 | AI11: Wk23 | AJ11: Wk24 | AK11: Wk25 | AL11: Wk26
B12: maandag | C12: 150 | D12: 160 | E12: =D12-C12 -> 10 | F12: =E12/C12 -> 0.066666667 | H12: =AVERAGE(M12:AL12) -> 152 | I12: =H12-C12 -> 2 | J12: =I12/H12 -> 0.013157895 | K12: =H12-D12 -> -8 | L12: =K12/H12 -> -0.052631579 | M12: 153 | N12: 149 | O12: 153 | P12: 152 | Q12: 153 | R12: vul in | S12: vul in | T12: vul in | U12: vul in | V12: vul in | W12: vul in | X12: vul in | Y12: vul in | Z12: vul in | AA12: vul in | AB12: vul in | AC12: vul in | AD12: vul in | AE12: vul in | AF12: vul in | AG12: vul in | AH12: vul in | AI12: vul in | AJ12: vul in | AK12: vul in | AL12: vul in
B13: dinsdag | C13: 165 | D13: 170 | E13: =D13-C13 -> 5 | F13: =E13/C13 -> 0.03030303 | H13: =AVERAGE(M13:AL13) -> 173.2 | I13: =H13-C13 -> 8.2 | J13: =I13/H13 -> 0.047344111 | K13: =H13-D13 -> 3.2 | L13: =K13/H13 -> 0.018475751 | M13: 170 | N13: 175 | O13: 171 | P13: 172 | Q13: 178 | R13: vul in | S13: vul in | T13: vul in | U13: vul in | V13: vul in | W13: vul in | X13: vul in | Y13: vul in | Z13: vul in | AA13: vul in | AB13: vul in | AC13: vul in | AD13: vul in | AE13: vul in | AF13: vul in | AG13: vul in | AH13: vul in | AI13: vul in | AJ13: vul in | AK13: vul in | AL13: vul in
B14: woensdag | C14: 160 | D14: 170 | E14: =D14-C14 -> 10 | F14: =E14/C14 -> 0.0625 | H14: =AVERAGE(M14:AL14) -> 174 | I14: =H14-C14 -> 14 | J14: =I14/H14 -> 0.08045977 | K14: =H14-D14 -> 4 | L14: =K14/H14 -> 0.022988506 | M14: 170 | N14: 172 | O14: 171 | P14: 178 | Q14: 179 | R14: vul in | S14: vul in | T14: vul in | U14: vul in | V14: vul in | W14: vul in | X14: vul in | Y14: vul in | Z14: vul in | AA14: vul in | AB14: vul in | AC14: vul in | AD14: vul in | AE14: vul in | AF14: vul in | AG14: vul in | AH14: vul in | AI14: vul in | AJ14: vul in | AK14: vul in | AL14: vul in
B15: donderdag | C15: 175 | D15: 180 | E15: =D15-C15 -> 5 | F15: =E15/C15 -> 0.028571429 | H15: =AVERAGE(M15:AL15) -> 182 | I15: =H15-C15 -> 7 | J15: =I15/H15 -> 0.038461538 | K15: =H15-D15 -> 2 | L15: =K15/H15 -> 0.010989011 | M15: 179 | N15: 180 | O15: 182 | P15: 185 | Q15: 184 | R15: vul in | S15: vul in | T15: vul in | U15: vul in | V15: vul in | W15: vul in | X15: vul in | Y15: vul in | Z15: vul in | AA15: vul in | AB15: vul in | AC15: vul in | AD15: vul in | AE15: vul in | AF15: vul in | AG15: vul in | AH15: vul in | AI15: vul in | AJ15: vul in | AK15: vul in | AL15: vul in
B16: vrijdag | C16: 155 | D16: 160 | E16: =D16-C16 -> 5 | F16: =E16/C16 -> 0.032258065 | H16: =AVERAGE(M16:AL16) -> 160 | I16: =H16-C16 -> 5 | J16: =I16/H16 -> 0.03125 | K16: =H16-D16 -> 0 | L16: =K16/H16 -> 0 | M16: 155 | N16: 158 | O16: 162 | P16: 163 | Q16: 162 | R16: vul in | S16: vul in | T16: vul in | U16: vul in | V16: vul in | W16: vul in | X16: vul in | Y16: vul in | Z16: vul in | AA16: vul in | AB16: vul in | AC16: vul in | AD16: vul in | AE16: vul in | AF16: vul in | AG16: vul in | AH16: vul in | AI16: vul in | AJ16: vul in | AK16: vul in | AL16: vul in
B17: zaterdag | C17: 200 | D17: 210 | E17: =D17-C17 -> 10 | F17: =E17/C17 -> 0.05 | H17: =AVERAGE(M17:AL17) -> 203 | I17: =H17-C17 -> 3 | J17: =I17/H17 -> 0.014778325 | K17: =H17-D17 -> -7 | L17: =K17/H17 -> -0.034482759 | M17: 210 | N17: 203 | O17: 201 | P17: 198 | Q17: 203 | R17: vul in | S17: vul in | T17: vul in | U17: vul in | V17: vul in | W17: vul in | X17: vul in | Y17: vul in | Z17: vul in | AA17: vul in | AB17: vul in | AC17: vul in | AD17: vul in | AE17: vul in | AF17: vul in | AG17: vul in | AH17: vul in | AI17: vul in | AJ17: vul in | AK17: vul in | AL17: vul in
B18: zondag | C18: 185 | D18: 200 | E18: =D18-C18 -> 15 | F18: =E18/C18 -> 0.081081081 | H18: =AVERAGE(M18:AL18) -> 207.6 | I18: =H18-C18 -> 22.6 | J18: =I18/H18 -> 0.1088632 | K18: =H18-D18 -> 7.6 | L18: =K18/H18 -> 0.036608863 | M18: 205 | N18: 206 | O18: 208 | P18: 207 | Q18: 212 | R18: vul in | S18: vul in | T18: vul in | U18: vul in | V18: vul in | W18: vul in | X18: vul in | Y18: vul in | Z18: vul in | AA18: vul in | AB18: vul in | AC18: vul in | AD18: vul in | AE18: vul in | AF18: vul in | AG18: vul in | AH18: vul in | AI18: vul in | AJ18: vul in | AK18: vul in | AL18: vul in
B19: totaal per week | C19: =SUM(C12:C18) -> 1190 | D19: =SUM(D12:D18) -> 1250 | E19: =SUM(E12:E18) -> 60 | H19: =SUM(H12:H18) -> 1251.8 | I19: =SUM(I12:I18) -> 61.8 | K19: =SUM(K12:K18) -> 1.8 | M19: =SUM(M12:M18) -> 1242 | N19: =SUM(N12:N18) -> 1243 | O19: =SUM(O12:O18) -> 1248 | P19: =SUM(P12:P18) -> 1255 | Q19: =SUM(Q12:Q18) -> 1271 | R19: =SUM(R12:R18) -> 0 | S19: =SUM(S12:S18) -> 0 | T19: =SUM(T12:T18) -> 0 | ... AL19: =SUM(AL12:AL18) -> 0
B20: totaal gemiddeld per dag | C20: =AVERAGE(C12:C18) -> 170 | D20: =AVERAGE(D12:D18) -> 178.57143 | E20: =AVERAGE(E12:E18) -> 8.5714286 | F20: =AVERAGE(F12:F18) -> 0.050197182 | H20: =AVERAGE(H12:H18) -> 178.82857 | I20: =AVERAGE(I12:I18) -> 8.8285714 | J20: =AVERAGE(J12:J18) -> 0.047759263 | K20: =AVERAGE(K12:K18) -> 0.25714286 | L20: =AVERAGE(L12:L18) -> 0.00027825613 | M20: =AVERAGE(M12:M18) -> 177.42857 | N20: =AVERAGE(N12:N18) -> 177.57143 | O20: =AVERAGE(O12:O18) -> 178.28571 | ... AL20: =AVERAGE(AL12:AL18) -> #DIV/0!
C22: VUL ALLEEN DE WITTE VLAKKEN IN, DE REST NIET AANPASSEN!
C23: Besteding per gast (VOLLER) | H23: RESULTAAT | I23: VERSCHIL TUSSEN NULMETING EN 1METING | K23: VERSCHIL TUSSEN DOEL EN 1METING | M23: VUL HIER JE RESULTAAT PER WEEK IN:
C24: NULMETING | D24: DOEL | E24: VERSCHIL # | F24: VERSCHIL % | H24: GEMIDDELDE | I24: VERSCHIL # | J24: VERSCHIL % | K24: VERSCHIL # | L24: VERSCHIL % | M24: Wk1 | N24: Wk2 | O24: Wk3 | P24: Wk4 | Q24: Wk5 | R24: Wk6 | S24: Wk7 | T24: Wk8 | U24: Wk9 | V24: Wk10 | W24: Wk11 | X24: Wk12 | Y24: Wk13 | Z24: Wk14 | AA24: Wk15 | AB24: Wk16 | AC24: Wk17 | AD24: Wk18 | AE24: Wk19 | AF24: Wk20 | AG24: Wk21 | AH24: Wk22 | AI24: Wk23 | AJ24: Wk24 | AK24: Wk25 | AL24: Wk26
B25: maandag | C25: 7.3 | D25: 7.5 | E25: =D25-C25 -> 0.2 | F25: =E25/C25 -> 0.02739726 | H25: =AVERAGE(M25:AL25) -> 7.598 | I25: =H25-C25 -> 0.298 | J25: =I25/H25 -> 0.039220848 | K25: =H25-D25 -> 0.098 | L25: =K25/H25 -> 0.012898131 | M25: 7.5 | N25: 7.6 | O25: 7.86 | P25: 7.58 | Q25: 7.45 | R25: vul in | S25: vul in | T25: vul in | U25: vul in | V25: vul in | W25: vul in | X25: vul in | Y25: vul in | Z25: vul in | AA25: vul in | AB25: vul in | AC25: vul in | AD25: vul in | AE25: vul in | AF25: vul in | AG25: vul in | AH25: vul in | AI25: vul in | AJ25: vul in | AK25: vul in | AL25: vul in
B26: dinsdag | C26: 8.2 | D26: 8.35 | E26: =D26-C26 -> 0.15 | F26: =E26/C26 -> 0.018292683 | H26: =AVERAGE(M26:AL26) -> 8.45 | I26: =H26-C26 -> 0.25 | J26: =I26/H26 -> 0.029585799 | K26: =H26-D26 -> 0.1 | L26: =K26/H26 -> 0.01183432 | M26: 8.56 | N26: 8.35 | O26: 8.65 | P26: 8.49 | Q26: 8.2 | R26: vul in | S26: vul in | T26: vul in | U26: vul in | V26: vul in | W26: vul in | X26: vul in | Y26: vul in | Z26: vul in | AA26: vul in | AB26: vul in | AC26: vul in | AD26: vul in | AE26: vul in | AF26: vul in | AG26: vul in | AH26: vul in | AI26: vul in | AJ26: vul in | AK26: vul in | AL26: vul in
B27: woensdag | C27: 7.7 | D27: 7.8 | E27: =D27-C27 -> 0.1 | F27: =E27/C27 -> 0.012987013 | H27: =AVERAGE(M27:AL27) -> 7.814 | I27: =H27-C27 -> 0.114 | J27: =I27/H27 -> 0.014589199 | K27: =H27-D27 -> 0.014 | L27: =K27/H27 -> 0.001791656 | M27: 7.81 | N27: 7.77 | O27: 7.85 | P27: 7.89 | Q27: 7.75 | R27: vul in | S27: vul in | T27: vul in | U27: vul in | V27: vul in | W27: vul in | X27: vul in | Y27: vul in | Z27: vul in | AA27: vul in | AB27: vul in | AC27: vul in | AD27: vul in | AE27: vul in | AF27: vul in | AG27: vul in | AH27: vul in | AI27: vul in | AJ27: vul in | AK27: vul in | AL27: vul in
B28: donderdag | C28: 8.05 | D28: 8.2 | E28: =D28-C28 -> 0.15 | F28: =E28/C28 -> 0.01863354 | H28: =AVERAGE(M28:AL28) -> 8.13 | I28: =H28-C28 -> 0.08 | J28: =I28/H28 -> 0.0098400984 | K28: =H28-D28 -> -0.07 | L28: =K28/H28 -> -0.0086100861 | M28: 8.15 | N28: 8.21 | O28: 8.19 | P28: 8.01 | Q28: 8.09 | R28: vul in | S28: vul in | T28: vul in | U28: vul in | V28: vul in | W28: vul in | X28: vul in | Y28: vul in | Z28: vul in | AA28: vul in | AB28: vul in | AC28: vul in | AD28: vul in | AE28: vul in | AF28: vul in | AG28: vul in | AH28: vul in | AI28: vul in | AJ28: vul in | AK28: vul in | AL28: vul in
B29: vrijdag | C29: 8.1 | D29: 8.2 | E29: =D29-C29 -> 0.1 | F29: =E29/C29 -> 0.012345679 | H29: =AVERAGE(M29:AL29) -> 8.232 | I29: =H29-C29 -> 0.132 | J29: =I29/H29 -> 0.016034985 | K29: =H29-D29 -> 0.032 | L29: =K29/H29 -> 0.0038872692 | M29: 8.15 | N29: 8.21 | O29: 8.19 | P29: 8.25 | Q29: 8.36 | R29: vul in | S29: vul in | T29: vul in | U29: vul in | V29: vul in | W29: vul in | X29: vul in | Y29: vul in | Z29: vul in | AA29: vul in | AB29: vul in | AC29: vul in | AD29: vul in | AE29: vul in | AF29: vul in | AG29: vul in | AH29: vul in | AI29: vul in | AJ29: vul in | AK29: vul in | AL29: vul in
B30: zaterdag | C30: 9.5 | D30: 10 | E30: =D30-C30 -> 0.5 | F30: =E30/C30 -> 0.052631579 | H30: =AVERAGE(M30:AL30) -> 10.06 | I30: =H30-C30 -> 0.56 | J30: =I30/H30 -> 0.055666004 | K30: =H30-D30 -> 0.06 | L30: =K30/H30 -> 0.0059642147 | M30: 10.25 | N30: 10.15 | O30: 10.05 | P30: 9.98 | Q30: 9.87 | R30: vul in | S30: vul in | T30: vul in | U30: vul in | V30: vul in | W30: vul in | X30: vul in | Y30: vul in | Z30: vul in | AA30: vul in | AB30: vul in | AC30: vul in | AD30: vul in | AE30: vul in | AF30: vul in | AG30: vul in | AH30: vul in | AI30: vul in | AJ30: vul in | AK30: vul in | AL30: vul in
B31: zondag | C31: 9.8 | D31: 10 | E31: =D31-C31 -> 0.2 | F31: =E31/C31 -> 0.020408163 | H31: =AVERAGE(M31:AL31) -> 10.03 | I31: =H31-C31 -> 0.23 | J31: =I31/H31 -> 0.022931206 | K31: =H31-D31 -> 0.03 | L31: =K31/H31 -> 0.0029910269 | M31: 10.07 | N31: 10.03 | O31: 9.85 | P31: 9.95 | Q31: 10.25 | R31: vul in | S31: vul in | T31: vul in | U31: vul in | V31: vul in | W31: vul in | X31: vul in | Y31: vul in | Z31: vul in | AA31: vul in | AB31: vul in | AC31: vul in | AD31: vul in | AE31: vul in | AF31: vul in | AG31: vul in | AH31: vul in | AI31: vul in | AJ31: vul in | AK31: vul in | AL31: vul in
B32: totaal per week | C32: =SUM(C25:C31) -> 58.65 | D32: =SUM(D25:D31) -> 60.05 | E32: =SUM(E25:E31) -> 1.4 | H32: =SUM(H25:H31) -> 60.314 | I32: =SUM(I25:I31) -> 1.664 | K32: =SUM(K25:K31) -> 0.264 | M32: =SUM(M25:M31) -> 60.49 | N32: =SUM(N25:N31) -> 60.32 | O32: =SUM(O25:O31) -> 60.64 | P32: =SUM(P25:P31) -> 60.15 | Q32: =SUM(Q25:Q31) -> 59.97 | R32: =SUM(R25:R31) -> 0 | S32: =SUM(S25:S31) -> 0 | T32: =SUM(T25:T31) -> 0 | ... AL32: =SUM(AL25:AL31) -> 0
B33: totaal gemiddeld per dag | C33: =AVERAGE(C25:C31) -> 8.3785714 | D33: =AVERAGE(D25:D31) -> 8.5785714 | E33: =AVERAGE(E25:E31) -> 0.2 | F33: =AVERAGE(F25:F31) -> 0.023242274 | H33: =AVERAGE(H25:H31) -> 8.6162857 | I33: =AVERAGE(I25:I31) -> 0.23771429 | J33: =AVERAGE(J25:J31) -> 0.026838306 | K33: =AVERAGE(K25:K31) -> 0.037714286 | L33: =AVERAGE(L25:L31) -> 0.0043937902 | M33: =AVERAGE(M25:M31) -> 8.6414286 | N33: =AVERAGE(N25:N31) -> 8.6171429 | O33: =AVERAGE(O25:O31) -> 8.6628571 | ... AL33: =AVERAGE(AL25:AL31) -> #DIV/0!
C35: Omzet | H35: RESULTAAT | I35: VERSCHIL TUSSEN NULMETING EN 1METING | K35: VERSCHIL TUSSEN DOEL EN 1METING
C36: NULMETING | D36: DOEL | E36: VERSCHIL # | F36: VERSCHIL % | H36: GEMIDDELDE | I36: VERSCHIL # | J36: VERSCHIL % | K36: VERSCHIL # | L36: VERSCHIL %
B37: maandag | C37: =C25*C12 -> 1095 | D37: =D25*D12 -> 1200 | E37: =D37-C37 -> 105 | F37: =E37/C37 -> 0.095890411 | H37: =H25*H12 -> 1154.896 | I37: =H37-C37 -> 59.896 | J37: =I37/H37 -> 0.051862679 | K37: =H37-D37 -> -45.104 | L37: =K37/H37 -> -0.039054599
B38: dinsdag | C38: =C26*C13 -> 1353 | D38: =D26*D13 -> 1419.5 | E38: =D38-C38 -> 66.5 | F38: =E38/C38 -> 0.049150037 | H38: =H26*H13 -> 1463.54 | I38: =H38-C38 -> 110.54 | J38: =I38/H38 -> 0.075529196 | K38: =H38-D38 -> 44.04 | L38: =K38/H38 -> 0.030091422
B39: woensdag | C39: =C27*C14 -> 1232 | D39: =D27*D14 -> 1326 | E39: =D39-C39 -> 94 | F39: =E39/C39 -> 0.076298701 | H39: =H27*H14 -> 1359.636 | I39: =H39-C39 -> 127.636 | J39: =I39/H39 -> 0.093875125 | K39: =H39-D39 -> 33.636 | L39: =K39/H39 -> 0.024738974
B40: donderdag | C40: =C28*C15 -> 1408.75 | D40: =D28*D15 -> 1476 | E40: =D40-C40 -> 67.25 | F40: =E40/C40 -> 0.047737356 | H40: =H28*H15 -> 1479.66 | I40: =H40-C40 -> 70.91 | J40: =I40/H40 -> 0.047923172 | K40: =H40-D40 -> 3.66 | L40: =K40/H40 -> 0.0024735412
B41: vrijdag | C41: =C29*C16 -> 1255.5 | D41: =D29*D16 -> 1312 | E41: =D41-C41 -> 56.5 | F41: =E41/C41 -> 0.045001991 | H41: =H29*H16 -> 1317.12 | I41: =H41-C41 -> 61.62 | J41: =I41/H41 -> 0.046783892 | K41: =H41-D41 -> 5.12 | L41: =K41/H41 -> 0.0038872692
B42: zaterdag | C42: =C30*C17 -> 1900 | D42: =D30*D17 -> 2100 | E42: =D42-C42 -> 200 | F42: =E42/C42 -> 0.10526316 | H42: =H30*H17 -> 2042.18 | I42: =H42-C42 -> 142.18 | J42: =I42/H42 -> 0.069621679 | K42: =H42-D42 -> -57.82 | L42: =K42/H42 -> -0.028312881
B43: zondag | C43: =C31*C18 -> 1813 | D43: =D31*D18 -> 2000 | E43: =D43-C43 -> 187 | F43: =E43/C43 -> 0.10314396 | H43: =H31*H18 -> 2082.228 | I43: =H43-C43 -> 269.228 | J43: =I43/H43 -> 0.12929804 | K43: =H43-D43 -> 82.228 | L43: =K43/H43 -> 0.039490392
B44: totaal per week | C44: =SUM(C37:C43) -> 10057.25 | D44: =SUM(D37:D43) -> 10833.5 | E44: =SUM(E37:E43) -> 776.25 | H44: =SUM(H37:H43) -> 10899.26 | I44: =SUM(I37:I43) -> 842.01 | K44: =SUM(K37:K43) -> 65.76
...
